BEGIN:VCALENDAR
VERSION:2.0
PRODID:-//Sephardic Temple Tifereth Israel - ECPv6.15.12.1//NONSGML v1.0//EN
CALSCALE:GREGORIAN
METHOD:PUBLISH
X-ORIGINAL-URL:https://sephardictemple.org
X-WR-CALDESC:Events for Sephardic Temple Tifereth Israel
REFRESH-INTERVAL;VALUE=DURATION:PT1H
X-Robots-Tag:noindex
X-PUBLISHED-TTL:PT1H
BEGIN:VTIMEZONE
TZID:UTC
BEGIN:STANDARD
TZOFFSETFROM:+0000
TZOFFSETTO:+0000
TZNAME:UTC
DTSTART:20250101T000000
END:STANDARD
END:VTIMEZONE
BEGIN:VEVENT
DTSTART;TZID=UTC:20260402T190000
DTEND;TZID=UTC:20260402T220000
DTSTAMP:20260423T153741
CREATED:20260306T203152Z
LAST-MODIFIED:20260309T182813Z
UID:12614-1775156400-1775167200@sephardictemple.org
SUMMARY:Passover 2026
DESCRIPTION:[vc_row][vc_column][vc_row_inner][vc_column_inner width=”1/4″][/vc_column_inner][vc_column_inner width=”1/4″][vc_btn title=”First Night” color=”vista-blue” align=”center” link=”url:https%3A%2F%2Fsephardictemple.shulcloud.com%2Fform%2Fpassover-seder-2026-first-night.html|target:_blank”][/vc_column_inner][vc_column_inner width=”1/4″][vc_btn title=”Second Night” color=”turquoise” align=”center” css=”” link=”url:https%3A%2F%2Fsephardictemple.shulcloud.com%2Fform%2Fpassover-seder-2026-second-night.html|target:_blank”][/vc_column_inner][vc_column_inner width=”1/4″][/vc_column_inner][/vc_row_inner][vc_single_image image=”12613″ img_size=”full” alignment=”center” parallax_scroll=”no” woodmart_inline=”no”][vc_row_inner][vc_column_inner width=”1/4″][/vc_column_inner][vc_column_inner width=”1/4″][vc_btn title=”First Night” color=”vista-blue” align=”center” link=”url:https%3A%2F%2Fsephardictemple.shulcloud.com%2Fform%2Fpassover-seder-2026-first-night.html|target:_blank”][/vc_column_inner][vc_column_inner width=”1/4″][vc_btn title=”Second Night” color=”turquoise” align=”center” css=”” link=”url:https%3A%2F%2Fsephardictemple.shulcloud.com%2Fform%2Fpassover-seder-2026-second-night.html|target:_blank”][/vc_column_inner][vc_column_inner width=”1/4″][/vc_column_inner][/vc_row_inner][/vc_column][/vc_row]
URL:https://sephardictemple.org/event/passover-2026/2026-04-02/
LOCATION:Sephardic Temple\, 10500 Wilshire Blvd.\, Los Angeles\, CA\, 90024\, United States
CATEGORIES:Temple Events
ATTACH;FMTTYPE=image/jpeg:https://sephardictemple.org/wp-content/uploads/2026/03/passove-2026-web.jpg
ORGANIZER;CN="STTI Sephardic Temple":MAILTO:melissa@sephardictemple.org
END:VEVENT
BEGIN:VEVENT
DTSTART;TZID=UTC:20260401T190000
DTEND;TZID=UTC:20260401T220000
DTSTAMP:20260423T153741
CREATED:20260306T203152Z
LAST-MODIFIED:20260309T182812Z
UID:12612-1775070000-1775080800@sephardictemple.org
SUMMARY:Passover 2026
DESCRIPTION:[vc_row][vc_column][vc_row_inner][vc_column_inner width=”1/4″][/vc_column_inner][vc_column_inner width=”1/4″][vc_btn title=”First Night” color=”vista-blue” align=”center” link=”url:https%3A%2F%2Fsephardictemple.shulcloud.com%2Fform%2Fpassover-seder-2026-first-night.html|target:_blank”][/vc_column_inner][vc_column_inner width=”1/4″][vc_btn title=”Second Night” color=”turquoise” align=”center” css=”” link=”url:https%3A%2F%2Fsephardictemple.shulcloud.com%2Fform%2Fpassover-seder-2026-second-night.html|target:_blank”][/vc_column_inner][vc_column_inner width=”1/4″][/vc_column_inner][/vc_row_inner][vc_single_image image=”12613″ img_size=”full” alignment=”center” parallax_scroll=”no” woodmart_inline=”no”][vc_row_inner][vc_column_inner width=”1/4″][/vc_column_inner][vc_column_inner width=”1/4″][vc_btn title=”First Night” color=”vista-blue” align=”center” link=”url:https%3A%2F%2Fsephardictemple.shulcloud.com%2Fform%2Fpassover-seder-2026-first-night.html|target:_blank”][/vc_column_inner][vc_column_inner width=”1/4″][vc_btn title=”Second Night” color=”turquoise” align=”center” css=”” link=”url:https%3A%2F%2Fsephardictemple.shulcloud.com%2Fform%2Fpassover-seder-2026-second-night.html|target:_blank”][/vc_column_inner][vc_column_inner width=”1/4″][/vc_column_inner][/vc_row_inner][/vc_column][/vc_row]
URL:https://sephardictemple.org/event/passover-2026/2026-04-01/
LOCATION:Sephardic Temple\, 10500 Wilshire Blvd.\, Los Angeles\, CA\, 90024\, United States
CATEGORIES:Temple Events
ATTACH;FMTTYPE=image/jpeg:https://sephardictemple.org/wp-content/uploads/2026/03/passove-2026-web.jpg
ORGANIZER;CN="STTI Sephardic Temple":MAILTO:melissa@sephardictemple.org
END:VEVENT
END:VCALENDAR